BEGIN:VCALENDAR
VERSION:2.0
PRODID:-//wp-events-plugin.com//7.2.3.1//EN
TZID:Europe/London
X-WR-TIMEZONE:Europe/London
BEGIN:VEVENT
UID:25@glynnvivian.co.uk
DTSTART;TZID=Europe/London:20180929T100000
DTEND;TZID=Europe/London:20181118T170000
DTSTAMP:20200519T162522Z
URL:https://www.glynnvivian.co.uk/whats-on/a-spacewoman-dreams/
SUMMARY:A Spacewoman Dreams
DESCRIPTION:Room 9\nAnna Barratt I Gemma Copp I Joan Jones\n\nThis new film
  work by Swansea-based artists\, Anna Barratt\, Gemma Copp and Joan Jones\
 , explores planetary and outer-planetary themes of loss\, emptiness\, futi
 lity and dislocation.\n\nCreating a feeling of the impending extinction of
  human life\, they trudge through eerily beautiful natural settings. Their
  costumes and gestures suggest a sense of abandonment and defiance\, lendi
 ng the idyllic scenery a foreboding bleakness. In increasingly turbulent t
 imes\, politically\, ecologically and psychologically\, the work attempts 
 to map out the experience of life lived on the very edge of existence.
ATTACH;FMTTYPE=image/jpeg:https://www.glynnvivian.co.uk/wp-content/uploads
 /2019/09/A-Space-Woman-Dreams_new-canvas.jpg
CATEGORIES:Past exhibition 2018
LOCATION:Glynn Vivian Art Gallery\, Alexandra Road\, Swansea\, SA1 5DZ\, Wa
 les
X-APPLE-STRUCTURED-LOCATION;VALUE=URI;X-ADDRESS=Alexandra Road\, Swansea\, 
 SA1 5DZ\, Wales;X-APPLE-RADIUS=100;X-TITLE=Glynn Vivian Art Gallery:geo:0,
 0
END:VEVENT
BEGIN:VTIMEZONE
TZID:Europe/London
X-LIC-LOCATION:Europe/London
BEGIN:DAYLIGHT
DTSTART:20180325T020000
TZOFFSETFROM:+0000
TZOFFSETTO:+0100
TZNAME:BST
END:DAYLIGHT
BEGIN:STANDARD
DTSTART:20181028T010000
TZOFFSETFROM:+0100
TZOFFSETTO:+0000
TZNAME:GMT
END:STANDARD
END:VTIMEZONE
END:VCALENDAR