BEGIN:VCALENDAR
VERSION:2.0
PRODID:-//wp-events-plugin.com//7.2.3.1//EN
TZID:Europe/London
X-WR-TIMEZONE:Europe/London
BEGIN:VEVENT
UID:94@glynnvivian.co.uk
DTSTART;TZID=Europe/London:20191119T103000
DTEND;TZID=Europe/London:20191119T113000
DTSTAMP:20191015T101010Z
URL:https://www.glynnvivian.co.uk/whats-on/art-babas-3/
SUMMARY:Art Babas
DESCRIPTION:Art Babas is a relaxed sensory craft session for parents and ca
 rers with pre-school children\, from 6 months to 3 years.
ATTACH;FMTTYPE=image/jpeg:https://www.glynnvivian.co.uk/wp-content/uploads
 /2019/09/TTP_2426.jpg
CATEGORIES:Art Babas,Families
LOCATION:Glynn Vivian Art Gallery\, Alexandra Road\, Swansea\, SA1 5DZ\, Wa
 les
X-APPLE-STRUCTURED-LOCATION;VALUE=URI;X-ADDRESS=Alexandra Road\, Swansea\, 
 SA1 5DZ\, Wales;X-APPLE-RADIUS=100;X-TITLE=Glynn Vivian Art Gallery:geo:0,
 0
END:VEVENT
BEGIN:VTIMEZONE
TZID:Europe/London
X-LIC-LOCATION:Europe/London
BEGIN:STANDARD
DTSTART:20191027T010000
TZOFFSETFROM:+0100
TZOFFSETTO:+0000
TZNAME:GMT
END:STANDARD
END:VTIMEZONE
END:VCALENDAR