BEGIN:VCALENDAR
VERSION:2.0
PRODID:-//wp-events-plugin.com//7.2.3.1//EN
TZID:Europe/London
X-WR-TIMEZONE:Europe/London
BEGIN:VEVENT
UID:41@glynnvivian.co.uk
DTSTART;TZID=Europe/London:20190114T000000
DTEND;TZID=Europe/London:20190314T000000
DTSTAMP:20191016T090121Z
URL:https://www.glynnvivian.co.uk/whats-on/artist-in-residence-nazma-botan
 ica/
SUMMARY:Artist in Residence: Nazma Botanica
DESCRIPTION:One half of the creative partnership that is the HigherStreet I
 nternational\, Nazma Botanica also works independently as a multidisciplin
 ary artist. Returning to study art at the age of thirty\, Nazma won Access
  Student of the Year before going on to gain a Masters Degree in Contempor
 ary Dialogues: Fine Art.\nAs well as using paint\, collage\, sculpture\, a
 nd occasionally performance as her media\, Nazma has also used the written
  word to find her voice. At present Nazma is working within the field of w
 ellbeing and is very much interested in how nature can improve emotional h
 ealth.
ATTACH;FMTTYPE=image/jpeg:https://www.glynnvivian.co.uk/wp-content/uploads
 /2019/09/NazmaBotanica.jpg
CATEGORIES:Artist in residence
LOCATION:Glynn Vivian Art Gallery\, Alexandra Road\, Swansea\, SA1 5DZ\, Wa
 les
X-APPLE-STRUCTURED-LOCATION;VALUE=URI;X-ADDRESS=Alexandra Road\, Swansea\, 
 SA1 5DZ\, Wales;X-APPLE-RADIUS=100;X-TITLE=Glynn Vivian Art Gallery:geo:0,
 0
END:VEVENT
BEGIN:VTIMEZONE
TZID:Europe/London
X-LIC-LOCATION:Europe/London
BEGIN:STANDARD
DTSTART:20181028T010000
TZOFFSETFROM:+0100
TZOFFSETTO:+0000
TZNAME:GMT
END:STANDARD
END:VTIMEZONE
END:VCALENDAR