BEGIN:VCALENDAR
VERSION:2.0
PRODID:-//wp-events-plugin.com//7.2.3.1//EN
TZID:Europe/London
X-WR-TIMEZONE:Europe/London
BEGIN:VEVENT
UID:42@glynnvivian.co.uk
DTSTART;TZID=Europe/London:20180901T100000
DTEND;TZID=Europe/London:20180930T170000
DTSTAMP:20190925T125901Z
URL:https://www.glynnvivian.co.uk/whats-on/artist-in-residence-shiraz-bayj
 oo/
SUMMARY:Artist in Residence: Shiraz Bayjoo
DESCRIPTION:Shiraz Bayjoo is a Mauritian artist\, whose multi-disciplinary 
 practice investigates the social\, political and historical landscapes cen
 tral to Mauritian cultural identity and the wider Indian Ocean region.\n\n
 Bayjoo studied at the University of Wales Institute\, Cardiff. He has exhi
 bited with Tate Britain\, the Institute for International Visual Arts\, 13
 th Biennale of Dakar\, 21st Biennale of Sydney\, and is a recipient of Art
 s Council of England Gasworks fellowship.\n\nBayjoo will be our Artist in 
 Residence this September\, culminating in a performance at Glynn Vivian at
  Night on Friday 21 September\, 5-8pm.
ATTACH;FMTTYPE=image/jpeg:https://www.glynnvivian.co.uk/wp-content/uploads
 /2019/09/ShiraBayjoo.jpg
CATEGORIES:Artist in residence
LOCATION:Glynn Vivian Art Gallery\, Alexandra Road\, Swansea\, SA1 5DZ\, Wa
 les
X-APPLE-STRUCTURED-LOCATION;VALUE=URI;X-ADDRESS=Alexandra Road\, Swansea\, 
 SA1 5DZ\, Wales;X-APPLE-RADIUS=100;X-TITLE=Glynn Vivian Art Gallery:geo:0,
 0
END:VEVENT
BEGIN:VTIMEZONE
TZID:Europe/London
X-LIC-LOCATION:Europe/London
BEGIN:DAYLIGHT
DTSTART:20180325T020000
TZOFFSETFROM:+0000
TZOFFSETTO:+0100
TZNAME:BST
END:DAYLIGHT
END:VTIMEZONE
END:VCALENDAR