BEGIN:VCALENDAR
VERSION:2.0
PRODID:-//wp-events-plugin.com//7.2.3.1//EN
TZID:Europe/London
X-WR-TIMEZONE:Europe/London
BEGIN:VEVENT
UID:33@glynnvivian.co.uk
DTSTART;TZID=Europe/London:20170523T100000
DTEND;TZID=Europe/London:20170828T170000
DTSTAMP:20190924T153442Z
URL:https://www.glynnvivian.co.uk/whats-on/elizabeth-price-curates-in-a-dr
 eam-you-saw-a-way-to-survive-and-you-were-full-of-joy/
SUMMARY:Elizabeth Price Curates: IN A DREAM YOU SAW A WAY TO SURVIVE AND YO
 U WERE FULL OF JOY
DESCRIPTION:Including works by:\nFikret Atay | Becky Beasley | Simon Bedwel
 l | Claire Makhlouf Carter | Edward Onslow Ford | Loie Fuller and The Lum
 iére Brothers | Henry Fuseli  | Richard Hamilton | Gustav Metzger | Katr
 ina Palmer | Gavin Turk | Giulio Paolini Bridget Riley | Jo Spence | Carol
 ee Schneeman | Francesca Woodman\n\nThis exhibition by Elizabeth Price\, w
 inner of the 2012 Turner Prize\, is the latest in a series of Hayward Tour
 ing exhibitions curated by an artist and features works by over forty arti
 sts.\n\nIN A DREAM YOU SAW A WAY TO SURVIVE AND YOU WERE FULL OF JOY is st
 aged as 'an austere melodrama' exploring the psychological and formal powe
 r of the horizontal\, through an extensive selection of images of the recl
 ining or recumbent body in varying states of weariness\, stupor\, reverie\
 , grief\, death and languor. The installation is designed to create an imm
 ersive experience for visitors\, in which works are connected through 'the
  slippery\, fugitive logic of a dream'. The exhibition includes sculptures
 \, drawings\, photographs\, film and videos arranged in four loosely threa
 ded sections: Sleeping\, Working\, Mourning and Dancing.
ATTACH;FMTTYPE=image/jpeg:https://www.glynnvivian.co.uk/wp-content/uploads
 /2019/09/TheLumièreBrotherswithLoieFullerStillfromDanseSerpentineSerpenti
 neDance1899.jpg
CATEGORIES:Past exhibition 2017
LOCATION:Glynn Vivian Art Gallery\, Alexandra Road\, Swansea\, SA1 5DZ\, Wa
 les
X-APPLE-STRUCTURED-LOCATION;VALUE=URI;X-ADDRESS=Alexandra Road\, Swansea\, 
 SA1 5DZ\, Wales;X-APPLE-RADIUS=100;X-TITLE=Glynn Vivian Art Gallery:geo:0,
 0
END:VEVENT
BEGIN:VTIMEZONE
TZID:Europe/London
X-LIC-LOCATION:Europe/London
BEGIN:DAYLIGHT
DTSTART:20170326T020000
TZOFFSETFROM:+0000
TZOFFSETTO:+0100
TZNAME:BST
END:DAYLIGHT
END:VTIMEZONE
END:VCALENDAR