BEGIN:VCALENDAR
VERSION:2.0
PRODID:-//wp-events-plugin.com//7.2.3.1//EN
TZID:Europe/London
X-WR-TIMEZONE:Europe/London
BEGIN:VEVENT
UID:1@glynnvivian.co.uk
DTSTART:20190615T100000Z
DTEND:20191124T170000Z
DTSTAMP:20200416T164144Z
URL:https://www.glynnvivian.co.uk/whats-on/frances-richards-an-artist-apar
 t/
SUMMARY:Frances Richards: An Artist Apart
DESCRIPTION:This exhibition focuses on the work of Frances Richards\, wife 
 of the painter Ceri Richards\, whom she met at the Royal College of Art\, 
 London.
ATTACH;FMTTYPE=image/jpeg:https://www.glynnvivian.co.uk/wp-content/uploads
 /2019/08/GVFRichards_jpeg.jpg
CATEGORIES:Past,Past exhibition 2019
LOCATION:Glynn Vivian Art Gallery\, Alexandra Road\, Swansea\, SA1 5DZ\, Wa
 les
X-APPLE-STRUCTURED-LOCATION;VALUE=URI;X-ADDRESS=Alexandra Road\, Swansea\, 
 SA1 5DZ\, Wales;X-APPLE-RADIUS=100;X-TITLE=Glynn Vivian Art Gallery:geo:0,
 0
END:VEVENT
END:VCALENDAR