BEGIN:VCALENDAR
VERSION:2.0
PRODID:-//wp-events-plugin.com//7.2.3.1//EN
TZID:Europe/London
X-WR-TIMEZONE:Europe/London
BEGIN:VEVENT
UID:2@glynnvivian.co.uk
DTSTART;TZID=Europe/London:20190615T100000
DTEND;TZID=Europe/London:20190901T170000
DTSTAMP:20200416T164712Z
URL:https://www.glynnvivian.co.uk/whats-on/hand-drawn-action-packed/
SUMMARY:Hand Drawn Action Packed
DESCRIPTION:Hand Drawn Action Packed features ten artists whose practice sp
 rings from drawing\, and reveals the medium's infinite possibilities for n
 arrative invention.
ATTACH;FMTTYPE=image/jpeg:https://www.glynnvivian.co.uk/wp-content/uploads
 /2019/08/InciEviner_BeuysUndergroundstill001.jpg
CATEGORIES:Past,Past exhibition 2019
LOCATION:Glynn Vivian Art Gallery\, Alexandra Road\, Swansea\, SA1 5DZ\, Wa
 les
X-APPLE-STRUCTURED-LOCATION;VALUE=URI;X-ADDRESS=Alexandra Road\, Swansea\, 
 SA1 5DZ\, Wales;X-APPLE-RADIUS=100;X-TITLE=Glynn Vivian Art Gallery:geo:0,
 0
END:VEVENT
BEGIN:VTIMEZONE
TZID:Europe/London
X-LIC-LOCATION:Europe/London
BEGIN:DAYLIGHT
DTSTART:20190331T020000
TZOFFSETFROM:+0000
TZOFFSETTO:+0100
TZNAME:BST
END:DAYLIGHT
END:VTIMEZONE
END:VCALENDAR