BEGIN:VCALENDAR
VERSION:2.0
PRODID:-//wp-events-plugin.com//7.2.3.1//EN
TZID:Europe/London
X-WR-TIMEZONE:Europe/London
BEGIN:VEVENT
UID:39@glynnvivian.co.uk
DTSTART;TZID=Europe/London:20161015T100000
DTEND;TZID=Europe/London:20170108T170000
DTSTAMP:20190927T144942Z
URL:https://www.glynnvivian.co.uk/whats-on/leonardo-da-vinci-ten-drawings-
 from-the-royal-collection/
SUMMARY:Leonardo da Vinci: Ten drawings from the Royal Collection
DESCRIPTION:\n\n\nGlynn Vivian is to display ten of the finest drawings by 
 Leonardo di Vinci in the Royal Collection in a new exhibition. The works h
 ave been selected to show the extraordinary scope of the artist's interest
 s\, from painting and sculpture to engineering\, zoology\, botany\, mapmak
 ing and anatomy\, as well as his use of different media – pen and ink\, 
 red and black chalks\, watercolour and metalpoint.\n\nThrough drawing\, Le
 onardo attempted to record and understand the world around him. Leonardo's
  drawings are the richest\, most wide-ranging\, most technically brilliant
 \, and most endlessly fascinating of any artist.\n\n\n
ATTACH;FMTTYPE=image/jpeg:https://www.glynnvivian.co.uk/wp-content/uploads
 /2019/09/Recto-Expressions-of-fury-in-horses-lions-and-a-man-C1504-5.jpg
CATEGORIES:Past exhibition 2016
LOCATION:Glynn Vivian Art Gallery\, Alexandra Road\, Swansea\, SA1 5DZ\, Wa
 les
X-APPLE-STRUCTURED-LOCATION;VALUE=URI;X-ADDRESS=Alexandra Road\, Swansea\, 
 SA1 5DZ\, Wales;X-APPLE-RADIUS=100;X-TITLE=Glynn Vivian Art Gallery:geo:0,
 0
END:VEVENT
BEGIN:VTIMEZONE
TZID:Europe/London
X-LIC-LOCATION:Europe/London
BEGIN:DAYLIGHT
DTSTART:20160327T020000
TZOFFSETFROM:+0000
TZOFFSETTO:+0100
TZNAME:BST
END:DAYLIGHT
BEGIN:STANDARD
DTSTART:20161030T010000
TZOFFSETFROM:+0100
TZOFFSETTO:+0000
TZNAME:GMT
END:STANDARD
END:VTIMEZONE
END:VCALENDAR