BEGIN:VCALENDAR
VERSION:2.0
PRODID:-//wp-events-plugin.com//7.2.3.1//EN
TZID:Europe/London
X-WR-TIMEZONE:Europe/London
BEGIN:VEVENT
UID:38@glynnvivian.co.uk
DTSTART;TZID=Europe/London:20161015T100000
DTEND;TZID=Europe/London:20170319T170000
DTSTAMP:20190924T155917Z
URL:https://www.glynnvivian.co.uk/whats-on/lindsay-seers-nowhere-less-now%
 e2%81%b7/
SUMMARY:Lindsay Seers: Nowhere Less Now⁷
DESCRIPTION:Set in a ship that moves through past\, present and future time
  Nowhere Less Now⁷  traces the journey of a relative who sailed the se
 as in the Royal Navy over a hundred years ago. Finding his inscription on 
 an ancient baobab tree on the African island of Zanzibar\, Lindsay Seers c
 onnects intimate stories of individuals dragged along inextricably in the 
 strong currents of global histories. This is a new incarnation of this con
 tinuously evolving work which weaves some of the Gallery’s own story thr
 ough that of its founder Richard Glynn Vivian and Swansea’s own maritime
  past into this acclaimed work.\n\n&nbsp\;\n\nNowhere Less Now⁷ is part 
 of The Artangel Collection\, an initiative to bring outstanding film and v
 ideo works\, commissioned and produced by Artangel\, to galleries and muse
 ums across the UK. The Artangel Collection has been developed in partnersh
 ip with Tate\, is generously supported by the Esmée Fairbairn Foundation 
 and The Foyle Foundation and uses public funding from Arts Council England
 .\n\nCommissioned by Artangel\; Museum of Old and New Art (MONA)\, Hobart\
 , Australia\; Sharjah Art Foundation\, Sharjah\, UAE with the support of T
 he Henry Moore Foundation
ATTACH;FMTTYPE=image/jpeg:https://www.glynnvivian.co.uk/wp-content/uploads
 /2019/09/NLN4installation.jpg
CATEGORIES:Past exhibition 2016
LOCATION:Glynn Vivian Art Gallery\, Alexandra Road\, Swansea\, SA1 5DZ\, Wa
 les
X-APPLE-STRUCTURED-LOCATION;VALUE=URI;X-ADDRESS=Alexandra Road\, Swansea\, 
 SA1 5DZ\, Wales;X-APPLE-RADIUS=100;X-TITLE=Glynn Vivian Art Gallery:geo:0,
 0
END:VEVENT
BEGIN:VTIMEZONE
TZID:Europe/London
X-LIC-LOCATION:Europe/London
BEGIN:DAYLIGHT
DTSTART:20160327T020000
TZOFFSETFROM:+0000
TZOFFSETTO:+0100
TZNAME:BST
END:DAYLIGHT
BEGIN:STANDARD
DTSTART:20161030T010000
TZOFFSETFROM:+0100
TZOFFSETTO:+0000
TZNAME:GMT
END:STANDARD
END:VTIMEZONE
END:VCALENDAR