BEGIN:VCALENDAR
VERSION:2.0
PRODID:-//wp-events-plugin.com//7.2.3.1//EN
TZID:Europe/London
X-WR-TIMEZONE:Europe/London
BEGIN:VEVENT
UID:27@glynnvivian.co.uk
DTSTART;TZID=Europe/London:20180707T100000
DTEND;TZID=Europe/London:20180909T170000
DTSTAMP:20190924T145935Z
URL:https://www.glynnvivian.co.uk/whats-on/n-s-harsha-facing/
SUMMARY:N.S. Harsha: FACING
DESCRIPTION:Atrium\, Rooms 3 &amp\; 8\nN.S. Harsha is one of India’s most
  important artists and this is the largest exhibition of his work in the U
 K\, including the premiere of a work directly from the Sydney Biennale 201
 8 and a new work specially conceived for the Glynn Vivian.\n\nHarsha's pra
 ctice is concerned with the relationship between the local and the global\
 , drawing together details of his everyday life in Mysore with world event
 s. Harsha won the Artes Mundi prize in 2008.\n\nAn Artes Mundi and Glynn V
 ivian partnership exhibition.\n\nPart of the India Wales joint initiative 
 between Wales Arts International and the British Council. Generously suppo
 rted by Mollart Engineering Limited.
ATTACH;FMTTYPE=image/jpeg:https://www.glynnvivian.co.uk/wp-content/uploads
 /2019/09/NSH79_being-here-and-now_2014-a.jpg_FOR-WEB.jpg
CATEGORIES:Past exhibition 2018
LOCATION:Glynn Vivian Art Gallery\, Alexandra Road\, Swansea\, SA1 5DZ\, Wa
 les
X-APPLE-STRUCTURED-LOCATION;VALUE=URI;X-ADDRESS=Alexandra Road\, Swansea\, 
 SA1 5DZ\, Wales;X-APPLE-RADIUS=100;X-TITLE=Glynn Vivian Art Gallery:geo:0,
 0
END:VEVENT
BEGIN:VTIMEZONE
TZID:Europe/London
X-LIC-LOCATION:Europe/London
BEGIN:DAYLIGHT
DTSTART:20180325T020000
TZOFFSETFROM:+0000
TZOFFSETTO:+0100
TZNAME:BST
END:DAYLIGHT
END:VTIMEZONE
END:VCALENDAR