BEGIN:VCALENDAR
VERSION:2.0
PRODID:-//wp-events-plugin.com//7.2.3.1//EN
TZID:Europe/London
X-WR-TIMEZONE:Europe/London
BEGIN:VEVENT
UID:24@glynnvivian.co.uk
DTSTART;TZID=Europe/London:20180929T100000
DTEND;TZID=Europe/London:20181125T170000
DTSTAMP:20190924T143830Z
URL:https://www.glynnvivian.co.uk/whats-on/on-paper/
SUMMARY:On Paper
DESCRIPTION:Room 3\nPaper\, often an overlooked support for drawings is the
  subject of this exhibition. From collage to sculpture\, corrugated card t
 o blotting paper\, On Paper explores the work of celebrated 20th century a
 nd contemporary artists whose work demonstrates a range of approaches to w
 ork on paper and the use of paper as a sculptural medium.\n\nFeaturing wor
 k by over 20 artists including Karla Black\, Tim Davies\, Eduardo Paolozzi
 \, Cornelia Parker\, James Richards and Bridget Riley.\n\nAn Arts Council 
 Collection exhibition
ATTACH;FMTTYPE=image/jpeg:https://www.glynnvivian.co.uk/wp-content/uploads
 /2019/09/RICHARDS-James-ACC3_2013-3.jpg_enjoyswansea.jpg
CATEGORIES:Past exhibition 2018
LOCATION:Glynn Vivian Art Gallery\, Alexandra Road\, Swansea\, SA1 5DZ\, Wa
 les
X-APPLE-STRUCTURED-LOCATION;VALUE=URI;X-ADDRESS=Alexandra Road\, Swansea\, 
 SA1 5DZ\, Wales;X-APPLE-RADIUS=100;X-TITLE=Glynn Vivian Art Gallery:geo:0,
 0
END:VEVENT
BEGIN:VTIMEZONE
TZID:Europe/London
X-LIC-LOCATION:Europe/London
BEGIN:DAYLIGHT
DTSTART:20180325T020000
TZOFFSETFROM:+0000
TZOFFSETTO:+0100
TZNAME:BST
END:DAYLIGHT
BEGIN:STANDARD
DTSTART:20181028T010000
TZOFFSETFROM:+0100
TZOFFSETTO:+0000
TZNAME:GMT
END:STANDARD
END:VTIMEZONE
END:VCALENDAR