BEGIN:VCALENDAR
VERSION:2.0
PRODID:-//wp-events-plugin.com//7.2.3.1//EN
TZID:Europe/London
X-WR-TIMEZONE:Europe/London
BEGIN:VEVENT
UID:28@glynnvivian.co.uk
DTSTART;TZID=Europe/London:20180324T100000
DTEND;TZID=Europe/London:20180617T170000
DTSTAMP:20190924T150407Z
URL:https://www.glynnvivian.co.uk/whats-on/portrait-of-the-artist-kathe-ko
 llwitz/
SUMMARY:Portrait of the Artist: Käthe Kollwitz
DESCRIPTION:Preview 23 March 2018\, 19:00-21:00\n\nRoom 3\n\nKäthe Kollwit
 z (1867-1945) was one of the leading artists of the late nineteenth and ea
 rly twentieth centuries\, notable for the emotional power of her drawing\,
  printmaking and sculpture.\n\nShe lived an intensely examined life\, expr
 essed in her numerous selfportraits\, diaries and correspondence\; at the 
 core of this existence was her work as an artist and a mastery of graphic 
 art which quickly established her reputation in Germany\, then further afi
 eld as her influence spread internationally after the First World War.\n\n
 Kollwitz's unique artistic talent\, her technical prowess and intelligence
 \, and above all her humanity\, can be seen in this exhibition. There is m
 uch about the life and work of Kollwitz that instils hope\, that is inspir
 ing and life affirming\, despite the burden of hardship and sorrow carried
  by so many of her figures and by herself. Her emphasis was often on what 
 was distinctive about women's experience\, including the fundamental natur
 e and potency of maternal love. She believed that art could be a force for
  good in society.\n\nThe exhibition is organised in partnership between Ik
 on and the British Museum and is generously supported by the Dorset Founda
 tion. It is accompanied by a fully illustrated publication.
ATTACH;FMTTYPE=image/jpeg:https://www.glynnvivian.co.uk/wp-content/uploads
 /2019/09/Self-portrait-with-hand-against-cheek.jpg
CATEGORIES:Past exhibition 2018
LOCATION:Glynn Vivian Art Gallery\, Alexandra Road\, Swansea\, SA1 5DZ\, Wa
 les
X-APPLE-STRUCTURED-LOCATION;VALUE=URI;X-ADDRESS=Alexandra Road\, Swansea\, 
 SA1 5DZ\, Wales;X-APPLE-RADIUS=100;X-TITLE=Glynn Vivian Art Gallery:geo:0,
 0
END:VEVENT
BEGIN:VTIMEZONE
TZID:Europe/London
X-LIC-LOCATION:Europe/London
BEGIN:STANDARD
DTSTART:20171029T010000
TZOFFSETFROM:+0100
TZOFFSETTO:+0000
TZNAME:GMT
END:STANDARD
BEGIN:DAYLIGHT
DTSTART:20180325T020000
TZOFFSETFROM:+0000
TZOFFSETTO:+0100
TZNAME:BST
END:DAYLIGHT
END:VTIMEZONE
END:VCALENDAR