BEGIN:VCALENDAR
VERSION:2.0
PRODID:-//wp-events-plugin.com//7.2.3.1//EN
TZID:Europe/London
X-WR-TIMEZONE:Europe/London
BEGIN:VEVENT
UID:31@glynnvivian.co.uk
DTSTART;TZID=Europe/London:20170923T100000
DTEND;TZID=Europe/London:20171119T170000
DTSTAMP:20190924T152942Z
URL:https://www.glynnvivian.co.uk/whats-on/sir-leslie-joseph-young-artist-
 award-2017-bob-gelsthorpe/
SUMMARY:Sir Leslie Joseph Young Artist Award 2017: Bob Gelsthorpe
DESCRIPTION:As it waits\, until it lasts\nThe recipient of this year’s Si
 r Leslie Joseph Young Artist Award 2017 is Bob Gelsthorpe. Gelsthorpe is b
 ased in Cardiff and works through a range of media including performance\,
  photography and sculpture. This exhibition takes its inspiration from his
  late grandfather’s toolbox and explores notions of labour and memory.\n
 \nThe Sir Leslie Joseph Young Artist Award takes place in alternate years\
 , funded by the Friends of the Glynn Vivian Art Gallery from a generous gi
 ft by the late Sir Leslie Joseph. Entry is open to young artists throughou
 t the UK who have received part of their education in Wales.\n\nThe Award 
 offers an excellent opportunity to present their first solo exhibition in 
 a public gallery. Previous award winners include Will Nash\, Tomas Lewis\,
  Richard Monahan and Heather Phillipson.
ATTACH;FMTTYPE=image/jpeg:https://www.glynnvivian.co.uk/wp-content/uploads
 /2019/09/Bob-Gelsthorpe.jpg
CATEGORIES:Past exhibition 2017
LOCATION:Glynn Vivian Art Gallery\, Alexandra Road\, Swansea\, SA1 5DZ\, Wa
 les
X-APPLE-STRUCTURED-LOCATION;VALUE=URI;X-ADDRESS=Alexandra Road\, Swansea\, 
 SA1 5DZ\, Wales;X-APPLE-RADIUS=100;X-TITLE=Glynn Vivian Art Gallery:geo:0,
 0
END:VEVENT
BEGIN:VTIMEZONE
TZID:Europe/London
X-LIC-LOCATION:Europe/London
BEGIN:DAYLIGHT
DTSTART:20170326T020000
TZOFFSETFROM:+0000
TZOFFSETTO:+0100
TZNAME:BST
END:DAYLIGHT
BEGIN:STANDARD
DTSTART:20171029T010000
TZOFFSETFROM:+0100
TZOFFSETTO:+0000
TZNAME:GMT
END:STANDARD
END:VTIMEZONE
END:VCALENDAR