BEGIN:VCALENDAR
VERSION:2.0
PRODID:-//wp-events-plugin.com//7.2.3.1//EN
TZID:Europe/London
X-WR-TIMEZONE:Europe/London
BEGIN:VEVENT
UID:7@glynnvivian.co.uk
DTSTART;TZID=Europe/London:20190927T100000
DTEND;TZID=Europe/London:20200126T170000
DTSTAMP:20220426T114523Z
URL:https://www.glynnvivian.co.uk/whats-on/sophy-rickett-cupid-and-the-cur
 ious-moaning-of-kenfig-burrows/
SUMMARY:Sophy Rickett: Cupid and the Curious Moaning of Kenfig Burrows
DESCRIPTION:This solo exhibition by Sophy Rickett combines photography and 
 text and is inspired by the life and work of Thereza Dillwyn Llewelyn\, a 
 Swansea artist and astronomer active at the end of the 19th century.
ATTACH;FMTTYPE=image/jpeg:https://www.glynnvivian.co.uk/wp-content/uploads
 /2019/09/MargamMountain_k_jpeg.jpg
CATEGORIES:Past,Past exhibition 2019
LOCATION:Glynn Vivian Art Gallery\, Alexandra Road\, Swansea\, SA1 5DZ\, Wa
 les
X-APPLE-STRUCTURED-LOCATION;VALUE=URI;X-ADDRESS=Alexandra Road\, Swansea\, 
 SA1 5DZ\, Wales;X-APPLE-RADIUS=100;X-TITLE=Glynn Vivian Art Gallery:geo:0,
 0
END:VEVENT
BEGIN:VTIMEZONE
TZID:Europe/London
X-LIC-LOCATION:Europe/London
BEGIN:DAYLIGHT
DTSTART:20190331T020000
TZOFFSETFROM:+0000
TZOFFSETTO:+0100
TZNAME:BST
END:DAYLIGHT
BEGIN:STANDARD
DTSTART:20191027T010000
TZOFFSETFROM:+0100
TZOFFSETTO:+0000
TZNAME:GMT
END:STANDARD
END:VTIMEZONE
END:VCALENDAR