BEGIN:VCALENDAR
VERSION:2.0
PRODID:-//wp-events-plugin.com//7.2.3.1//EN
TZID:Europe/London
X-WR-TIMEZONE:Europe/London
BEGIN:VEVENT
UID:30@glynnvivian.co.uk
DTSTART;TZID=Europe/London:20171202T100000
DTEND;TZID=Europe/London:20180106T170000
DTSTAMP:20190924T151830Z
URL:https://www.glynnvivian.co.uk/whats-on/swansea-open-2017/
SUMMARY:Swansea Open 2017
DESCRIPTION:[caption id="attachment_1567" align="alignright" width="300"] S
 WANSEA 2nd DECEMBER 2017The Swansea Open exhibition at the Glynn Vivian Ar
 t Gallery\, Swansea.[/caption]\n\nGlynn Vivian is pleased to announce the 
 return of the annual celebration of art and craft by artists and makers wh
 o live and work in the City &amp\; County of Swansea.\n\nThe exhibition is
  open to all\, both artists and makers with professional backgrounds and o
 thers who\, without formal study\, have discovered the pleasures and chall
 enges that are the rewards of creative activity.\n\nThe exhibition seeks t
 o showcase a diverse selection of work across a broad range of mediums inc
 luding painting\, drawing\, sculpture\, photography\, printmaking &amp\; f
 ilm.\n\nThe deadline for submission is Saturday 18 and Sunday 19 Novemb
 er 2017. Information and further details are available from www.glynnvivi
 angallery.org
ATTACH;FMTTYPE=image/jpeg:https://www.glynnvivian.co.uk/wp-content/uploads
 /2019/09/RM_031217_Swansea_Open_061.jpg
CATEGORIES:Past exhibition 2018
LOCATION:Glynn Vivian Art Gallery\, Alexandra Road\, Swansea\, SA1 5DZ\, Wa
 les
X-APPLE-STRUCTURED-LOCATION;VALUE=URI;X-ADDRESS=Alexandra Road\, Swansea\, 
 SA1 5DZ\, Wales;X-APPLE-RADIUS=100;X-TITLE=Glynn Vivian Art Gallery:geo:0,
 0
END:VEVENT
BEGIN:VTIMEZONE
TZID:Europe/London
X-LIC-LOCATION:Europe/London
BEGIN:STANDARD
DTSTART:20171029T010000
TZOFFSETFROM:+0100
TZOFFSETTO:+0000
TZNAME:GMT
END:STANDARD
END:VTIMEZONE
END:VCALENDAR