BEGIN:VCALENDAR
VERSION:2.0
PRODID:-//wp-events-plugin.com//7.2.3.1//EN
TZID:Europe/London
X-WR-TIMEZONE:Europe/London
BEGIN:VEVENT
UID:113@glynnvivian.co.uk
DTSTART;TZID=Europe/London:20191113T130000
DTEND;TZID=Europe/London:20191113T140000
DTSTAMP:20191015T105603Z
URL:https://www.glynnvivian.co.uk/whats-on/talk-the-mary-rose-people-and-p
 urpose/
SUMMARY:Talk: The Mary Rose: People and Purpose
DESCRIPTION:Archers\, highly trained professional soldiers during Tudor tim
 es\, are thought to have constituted a significant proportion of the crew 
 of the Mary Rose when it sank in 1545. Dr Nick Owen was approached by the 
 Mary Rose Trust in 2012 to investigate methods of identifying which of the
  98 fairly complete skeletons recovered from the Mary Rose might have been
  those of archers.
CATEGORIES:Adults,Talks
LOCATION:Glynn Vivian Art Gallery\, Alexandra Road\, Swansea\, SA1 5DZ\, Wa
 les
X-APPLE-STRUCTURED-LOCATION;VALUE=URI;X-ADDRESS=Alexandra Road\, Swansea\, 
 SA1 5DZ\, Wales;X-APPLE-RADIUS=100;X-TITLE=Glynn Vivian Art Gallery:geo:0,
 0
END:VEVENT
BEGIN:VTIMEZONE
TZID:Europe/London
X-LIC-LOCATION:Europe/London
BEGIN:STANDARD
DTSTART:20191027T010000
TZOFFSETFROM:+0100
TZOFFSETTO:+0000
TZNAME:GMT
END:STANDARD
END:VTIMEZONE
END:VCALENDAR