BEGIN:VCALENDAR
VERSION:2.0
PRODID:-//wp-events-plugin.com//7.2.3.1//EN
TZID:Europe/London
X-WR-TIMEZONE:Europe/London
BEGIN:VEVENT
UID:20@glynnvivian.co.uk
DTSTART;TZID=Europe/London:20190209T100000
DTEND;TZID=Europe/London:20190512T170000
DTSTAMP:20190924T140214Z
URL:https://www.glynnvivian.co.uk/whats-on/then-now-80-years-of-casw/
SUMMARY:Then & Now: 80 Years of CASW
DESCRIPTION:Room 8\nSince 1938\, the Contemporary Art Society for Wales (CA
 SW) has acquired around 900 works by 500 artists. These are now held as pa
 rt of well-known public collections across Wales.\nThis exhibition celebra
 tes the 80th anniversary of the Society’s first acquisition by exploring
  the contemporary art of successive eras.\nThe exhibition will include wor
 ks from the Gallery’s Collection including David Jones\, Glenys Cour.\nC
 urated by Dr Peter Wakelin\nFree entry\, no booking required. Everyone wel
 come.
ATTACH;FMTTYPE=image/jpeg:https://www.glynnvivian.co.uk/wp-content/uploads
 /2019/09/RaymondMooreReflectivepool.jpg
CATEGORIES:Past exhibition 2019
LOCATION:Glynn Vivian Art Gallery\, Alexandra Road\, Swansea\, SA1 5DZ\, Wa
 les
X-APPLE-STRUCTURED-LOCATION;VALUE=URI;X-ADDRESS=Alexandra Road\, Swansea\, 
 SA1 5DZ\, Wales;X-APPLE-RADIUS=100;X-TITLE=Glynn Vivian Art Gallery:geo:0,
 0
END:VEVENT
BEGIN:VTIMEZONE
TZID:Europe/London
X-LIC-LOCATION:Europe/London
BEGIN:STANDARD
DTSTART:20181028T010000
TZOFFSETFROM:+0100
TZOFFSETTO:+0000
TZNAME:GMT
END:STANDARD
BEGIN:DAYLIGHT
DTSTART:20190331T020000
TZOFFSETFROM:+0000
TZOFFSETTO:+0100
TZNAME:BST
END:DAYLIGHT
END:VTIMEZONE
END:VCALENDAR