BEGIN:VCALENDAR
VERSION:2.0
PRODID:-//wp-events-plugin.com//7.2.3.1//EN
TZID:Europe/London
X-WR-TIMEZONE:Europe/London
BEGIN:VEVENT
UID:14@glynnvivian.co.uk
DTSTART;TZID=Europe/London:20191017T110000
DTEND;TZID=Europe/London:20191017T140000
DTSTAMP:20191015T102911Z
URL:https://www.glynnvivian.co.uk/whats-on/young-art-force/
SUMMARY:Young Art Force
DESCRIPTION:An open art class exploring and responding to the Gallery's exh
 ibitions and collection displays. Using different materials and techniques
 \, we provide opportunities for participants to develop their skills and c
 onfidence and to meet new people.
ATTACH;FMTTYPE=image/jpeg:https://www.glynnvivian.co.uk/wp-content/uploads
 /2019/09/RM_160218_Glynn_Vivian_at_Night_011.jpg
CATEGORIES:Young Art Force,Young people
LOCATION:Glynn Vivian Art Gallery\, Alexandra Road\, Swansea\, SA1 5DZ\, Wa
 les
X-APPLE-STRUCTURED-LOCATION;VALUE=URI;X-ADDRESS=Alexandra Road\, Swansea\, 
 SA1 5DZ\, Wales;X-APPLE-RADIUS=100;X-TITLE=Glynn Vivian Art Gallery:geo:0,
 0
END:VEVENT
BEGIN:VTIMEZONE
TZID:Europe/London
X-LIC-LOCATION:Europe/London
BEGIN:DAYLIGHT
DTSTART:20190331T020000
TZOFFSETFROM:+0000
TZOFFSETTO:+0100
TZNAME:BST
END:DAYLIGHT
END:VTIMEZONE
END:VCALENDAR